BEGIN:VCALENDAR
VERSION:2.0
PRODID:-//Wildrosenhof Alt Sammit - ECPv5.14.0.4//NONSGML v1.0//EN
CALSCALE:GREGORIAN
METHOD:PUBLISH
X-WR-CALNAME:Wildrosenhof Alt Sammit
X-ORIGINAL-URL:https://wildrosenhof.com
X-WR-CALDESC:Events for Wildrosenhof Alt Sammit
REFRESH-INTERVAL;VALUE=DURATION:PT1H
X-Robots-Tag:noindex
X-PUBLISHED-TTL:PT1H
BEGIN:VTIMEZONE
TZID:Europe/Berlin
BEGIN:DAYLIGHT
TZOFFSETFROM:+0100
TZOFFSETTO:+0200
TZNAME:CEST
DTSTART:20260329T010000
END:DAYLIGHT
BEGIN:STANDARD
TZOFFSETFROM:+0200
TZOFFSETTO:+0100
TZNAME:CET
DTSTART:20261025T010000
END:STANDARD
END:VTIMEZONE
BEGIN:VEVENT
DTSTART;VALUE=DATE:20260627
DTEND;VALUE=DATE:20260628
DTSTAMP:20260424T184441
CREATED:20221003T103008Z
LAST-MODIFIED:20260326T125723Z
UID:6922-1782518400-1782604799@wildrosenhof.com
SUMMARY:Trainingstag Kommunikative Bodenarbeit
DESCRIPTION:Frühbucher bis 17.05.2026\nDarum geht´s\nDie Arbeit am Boden ist der Grundstein der Pferdeausbildung. Mit Präzision\, Gefühl und Ruhe bietet Bodenarbeit die Möglichkeit\, die Pferde  sinnvoll zu gymnastizieren\, zu motivieren und die Beziehung zum Partner Pferd zu verbessern. \nBeim Trainingstag kommunikative Bodenarbeit schaffen wir gemeinsam die Basis der feinen Kommunikation\, die es braucht um später mit Leichtigkeit und einem motivierten Pferd gesundheitsfördernd zu trainieren. Ohne Drücken\, Ziehen und Scheuchen. \nIm Kurs lernst Du\n\nDeine Körpersprache bewusst und präzise einzusetzen\nHilfen\, Impulse und Signale achtsam und fein zu nutzen und passend auszuwählen\nDeine und die Energie deines Pferdes zu steuern\nGrundlegende Übungen für eine solide Basis\n\nDer Kurs ist das Richtige für Dich\, wenn\n\nDu die Kommunikation zu deinem Pferd weiter verbessern und verfeinern möchtest oder ganz neu in der Materie bist und einen Einstieg in die Arbeit suchst\nDu die Balance\, die Koordination und die Körperwahrnehmung deines Pferdes schulen willst\nDu neue Trainingsimpulse und Inspiration für das tägliche Training suchst\n\nAblauf\nWir starten mit einer Vorstellungsrunde und ein wenig Theorie bevor es dann in die Praxis geht. \nJede Teilnehmerin / jeder Teilnehmer erhält 2x 30min Einzelunterricht. \nIn der Mittagspause ist Zeit für Fragen und Austausch. \nWas Du an Equipment brauchst\n\nein gut passendes Stall- oder Seilhalfter (ohne Knoten\, mit frei gleitendem Ring)\neine Kurzlonge/Bodenarbeitsseil/ Lamaleine\, idealerweise nicht zu dick und zu schwer\neine Gerte\, mindestens 1\,20m lang\n\nBei Interesse oder Bedarf können Seilhalfter und Fettlederlongen bei mir ausgeliehen und getestet werden.  \nWeitere Infos zur Trainerin Virginia Reiff findest Du hier:\nhttps://www.patience-pferdetraining.com/ \nKOSTEN\ninkl. ein leichtes vegetarisches Mittagessen\, Kaffee/Tee und Kuchen \nEinsteller*innen erhalten 10€ Rabatt \nAKTIVE Teilnahme (5-8 Plätze)\nan einem Trainingstag  \n\n 190€ \nab dem 18.05.2026: 210€\n\n\nfür beide Trainingstage \n\nSamstag\, 27.06. „Kommunikative Bodenbarbeit“ und \nSonntag\, 28.06. „Kommunikatives Longieren“\n\n\n 350€ \nab dem 18.05.2026:  380€ \n\nZUSCHAUER*INNEN auf der Tribüne\ninkl. ein leichtes vegetarisches Mittagessen\, Kaffee/Tee und Kuchen \n40 € pro Tag \nANMELDUNG\nSchreibt mich einfach an: https://wildrosenhof.com/kontakt/ \nseminare@wildrosenhof.com \nOder per Telefon oder WhatsApp: \n0171 92 40 159 \nTEILNAHME\nDie Kursanmeldung ist verbindlich\, bei Unfall\, Krankheit oder Verletzung von Pferd oder Reiter*in kann ein*e Ersatzteilnehmer*in gestellt werden. \nVERSICHERUNG\nVersicherung ist Sache der Teilnehmer*innen. Die Teilnahme erfolgt auf eigenes Risiko. Die Kursleitung und Hofbesitzer*innen lehnen die Haftung für jegliche Schäden\, Verletzungen\, etc. ab. Unfall- und Haftpflichtversicherung ist Sache der Teilnehmer*innen. \nUNTERBRINGUNG PFERD\ninkl. Heu und Wasser\nIhr seid fürs abäppeln\, Gabe von Wasser und Heu selbst verantwortlich. \n\nBox oder Graspaddock pro Tag (ohne Übernachtung): 10€\nGraspaddock ohne Unterstand: 15€/Nacht oder 20€/2 Nächte\nBox: 25€/Nacht oder 40€/2 Nächte\nPaddockbox: 30€/Nacht oder 50€/2 Nächte\nPaddockbox für zwei Pferde: 40€/Nacht oder 70€/2Nächte\n\nÜBERNACHTUNG FÜR DICH\n\nDoppelzimmer: 50€/Nacht oder 80€/2 Nächte (Preis für 2 Personen) mit Duschbad über den Flur (inkl. Bettwäsche\, Handtücher\, Kurabgabe)\nEinzelzimmer: 40€/Nacht oder 60€/2 Nächte mit Duschbad über den Flur (inkl. Bettwäsche\, Handtücher\, Kurabgabe)\nÜbernachten in eigenen Wohnwagen oder Bus ist auch möglich: 12 €/Tag (inkl. der Nutzung der Duschbäder\, sowie Kurabgabe)
URL:https://wildrosenhof.com/veranstaltung/bodenarbeit-juni-26/
LOCATION:Wildrosenhof Alt Sammit
CATEGORIES:Rund ums Pferd
ATTACH;FMTTYPE=image/jpeg:https://wildrosenhof.com/wp-content/uploads/2022/10/wildrosenhof-virgina-reiff-bodenarbeit-1.jpg
ORGANIZER;CN="Virginia%20Reiff":MAILTO:patiencepferdetraining@gmail.com
END:VEVENT
BEGIN:VEVENT
DTSTART;VALUE=DATE:20260628
DTEND;VALUE=DATE:20260629
DTSTAMP:20260424T184441
CREATED:20221003T103008Z
LAST-MODIFIED:20260326T125857Z
UID:6940-1782604800-1782691199@wildrosenhof.com
SUMMARY:Trainingstag Kommunikatives Longieren
DESCRIPTION:Frühbucherrabatt bis 17.05.2026\nDarum geht´s\nDie Arbeit am Boden ist der Grundstein der Pferdeausbildung. Mit Präzision\, Gefühl und Ruhe bietet Bodenarbeit die Möglichkeit\, die Pferde  sinnvoll zu gymnastizieren\, zu motivieren und die Beziehung zum Partner Pferd zu verbessern. \nBeim Trainingstag kommunikative Bodenarbeit schaffen wir gemeinsam die Basis der feinen Kommunikation\, die es braucht um später mit Leichtigkeit und einem motivierten Pferd gesundheitsfördernd zu trainieren. Ohne Drücken\, Ziehen und Scheuchen. \nIm Kurs lernst Du\n\nDein Pferd auch auf Distanz mit feinen Signalen und präziser Körpersprache zu leiten\, zu stoppen und zu gymnastizieren\nDeinen eigenen Laufweg und deine Position richtig einzuschätzen und wahrnehmen (räumliche Orientierung)\nMit Deiner eigenen Körperwahrnehmung und Koordination noch bewusster umzugehen und dadurch die Kommunikation mit Deinem Pferd noch mehr verfeinerst\nWie du die richtige Energie und die passenden Übungen für Dein Pferd auswählst\n\nDer Kurs ist das Richtige für Dich\, wenn\n\nDu bereits eine gute Grundlage in der kommunikativen Bodenarbeit hast und die Arbeit auf Distanz beginnen möchtest\nDu bereits aktiv longierst und die Kommunikation zwischen Deinem Pferd und Dir verbessern möchtest\nDu nach neuen Ideen und Anregungen für das Training an der Longe suchst\nDu ohne Scheuchen und Stress\, verschleißarm an der Longe gymnastizieren möchtest\n\nAblauf\nWir starten mit einer kurzen Theorieeinheit bevor wir uns der Praxis widmen. \nJede*r Teilnehmer*in erhält 2x 30min Einzelunterricht. \nIn der Mittagspause ist Zeit für Fragen und kreativen Austausch. \nWas Du an Equipment brauchst\n\nEinen gut passenden Kappzaum\nEine Longe mindestens 6m lang\nEine Gerte mindestens 1\,20m lang und eine Longierpeitsche\n\nVerschiedene Longen und Kappzäume können bei mir ausgeliehen und getestet werden. \nWeitere Infos zur Trainerin Virginia Reiff findest Du hier:\nhttps://www.patience-pferdetraining.com/ \nKOSTEN\ninkl. ein leichtes vegetarisches Mittagessen\, Kaffee/Tee und Kuchen \nEinsteller*innen erhalten 10€ Rabatt \nAKTIVE Teilnahme (5-8 Plätze)\nan einem Trainingstag  \n\n 190€ \nab dem 18.05.2026: 210€\n\n\nfür beide Trainingstage \n\nSamstag\, 27.06. „Kommunikative Bodenbarbeit“ und \nSonntag\, 28.06. „Kommunikatives Longieren“\n\n\n 350€ \nab dem 18.05.2026:  380€\n\nZUSCHAUER*INNEN auf der Tribüne\ninkl. ein leichtes vegetarisches Mittagessen\, Kaffee/Tee und Kuchen \n40 € pro Tag \nANMELDUNG\nSchreibt mich einfach an: https://wildrosenhof.com/kontakt/ \nseminare@wildrosenhof.com \nOder per Telefon oder WhatsApp: \n0171 92 40 159 \nTEILNAHME\nDie Kursanmeldung ist verbindlich\, bei Unfall\, Krankheit oder Verletzung von Pferd oder Reiter*in kann ein*e Ersatzteilnehmer*in gestellt werden. \nVERSICHERUNG\nVersicherung ist Sache der Teilnehmer*innen. Die Teilnahme erfolgt auf eigenes Risiko. Die Kursleitung und Hofbesitzer*innen lehnen die Haftung für jegliche Schäden\, Verletzungen\, etc. ab. Unfall- und Haftpflichtversicherung ist Sache der Teilnehmer*innen. \nUNTERBRINGUNG PFERD\ninkl. Heu und Wasser\nIhr seid fürs abäppeln\, Gabe von Wasser und Heu selbst verantwortlich. \n\nBox oder Graspaddock pro Tag (ohne Übernachtung): 10€\nGraspaddock ohne Unterstand: 15€/Nacht oder 20€/2 Nächte\nBox: 25€/Nacht oder 40€/2 Nächte\nPaddockbox: 30€/Nacht oder 50€/2 Nächte\nPaddockbox für zwei Pferde: 40€/Nacht oder 70€/2Nächte\n\nÜBERNACHTUNG FÜR DICH\n\nDoppelzimmer: 50€/Nacht oder 80€/2 Nächte (Preis für 2 Personen) mit Duschbad über den Flur (inkl. Bettwäsche\, Handtücher\, Kurabgabe)\nEinzelzimmer: 40€/Nacht oder 60€/2 Nächte mit Duschbad über den Flur (inkl. Bettwäsche\, Handtücher\, Kurabgabe)\nÜbernachten in eigenen Wohnwagen oder Bus ist auch möglich: 12 €/Tag (inkl. der Nutzung der Duschbäder\, sowie Kurabgabe)
URL:https://wildrosenhof.com/veranstaltung/longieren-juni-26/
LOCATION:Wildrosenhof Alt Sammit
CATEGORIES:Rund ums Pferd
ATTACH;FMTTYPE=image/jpeg:https://wildrosenhof.com/wp-content/uploads/2022/10/wildrosenhof-virgina-reiff-longieren-01.jpg
ORGANIZER;CN="Virginia%20Reiff":MAILTO:patiencepferdetraining@gmail.com
END:VEVENT
BEGIN:VEVENT
DTSTART;VALUE=DATE:20260905
DTEND;VALUE=DATE:20260907
DTSTAMP:20260424T184441
CREATED:20221003T103008Z
LAST-MODIFIED:20260215T061200Z
UID:7111-1788566400-1788739199@wildrosenhof.com
SUMMARY:Release and Move
DESCRIPTION:Pferden aus Kompensationsmustern raushelfen und sinnvoll trainieren – mit tensegraler Arbeit und kommunikativem Longieren \nDarum geht´s\nTrageschöpfung\, myofasziale Dysbalance\, Kompensation\, subtile Lahmheit und Mangelbewegung sind die Begriffe der modernen Pferdewelt. Doch neben all der Wichtigkeit verbreitet sich auch immer mehr Unsicherheit und Angst im Training alles falsch zu machen\, insbesondere wenn das Pferd in einem unphysiologischen Bewegungsmuster festhängt\, ohne klinische Befunde und trotz regelmäßigem Training. \nUnd genau das wollen wir ändern! \nDie Kombination aus tensegraler Arbeit und kommunikativem Longieren ist ein Weg um Pferden nicht nur aus ihrer Kompensation rauszuhelfen\, sondern bietet gleichzeitig ein Konzept um neue Bewegungsmuster zu etablieren und auch zu halten! Ohne maximale Komplexität\, sondern alltagstauglich. \n\n\nIn unserem Kurs „Release and Move“ bekommst du eine Einführung ins tensegrale Training und die Grundlagen des kommunikativen Longierens und wie du mit beidem zusammen dein Pferd langfristig (wieder) tragfähig und fit bekommst\, die Bewegungen (wieder) fließend und dynamisch werden und dein Pferd und du zurück zu Motivation und Freude im Training finden. \nDer Kurs ist das Richtige für Dich\, wenn\n\nDu dein Pferd langfristig und nachhaltig gesunderhaltend und zur Tragfähigkeit hin trainieren möchtest\nDu das Gefühl hast\, dein Training stagniert\, irgendwie läuft dein Pferd\, aber irgendwas „klemmt“\nDu nach Verletzung oder Krankheit im Trainingstherapiebereich mit deinem Pferd arbeitest und/oder wieder schonend antrainieren willst\nDu neue Trainingsimpulse suchst\, die deinem Pferd noch mehr Bewegungsfreude bieten können\nDein Pferd keinerlei klinische Befunde aufweist und trotzdem „lahmt“\n\n2 Trainer*innen – doppelte Power für Euch\nIna (EQUINA PFERDETRAINING) hat Pferdewissenschaften an der Freien Universität in Berlin studiert\, ist gelernte Pferdeosteopathin und „Reiter bewegen“ Coach. Als mobile Trainerin unterstützt sie Reiter- Pferd Paare im Havelland und macht nebenbei aktuell die Ausbildung zum Tensegrity Trainer. Fest zum Team gehören natürlich auch ihre drei Pferde\, Meteor\, Tario und Tom\, die auch als Lehrpferde im Einsatz sind.\n\nHier geht es zu ihrer Webseite: https://www.equina-pferdetraining.de/ \nGina (PATIENCE PFERDETRAINING) ist zertifizierte „Longieren als Dialog“ Trainerin und OsteoDressage Trainerin für klassisches Reiten. Seit 10 Jahren arbeitet sie als mobile Reitlehrerin und Pferdetrainerin und hat neben den klassischen FN Reitabzeichen bis RA4 die Ausbildung an der Akademie für ganzheitliches Pferdetraining absolviert. Sie betreibt einen kleinen Hof in der Uckermark\, auf dem neben regelmäßigen Trainingstagen auch Unterricht mit Lehrpferden möglich ist.\nHier geht es zu ihrer Webseite: https://www.patience-pferdetraining.com/ \nKOSTEN\nAKTIVE Teilnahme\ninkl. ein leichtes vegetarisches Mittagessen\, Kaffee/Tee und Kuchen \n– werden noch ausgeschrieben – \nFür externe Teilnehmer*innen fällt zusätzlich eine Anlagennutzungsgebühr von 10€ für das Wochenende an und ggf. die Kosten für die Unterbringung des Pferdes. \n\nZUSCHAUER*INNEN auf der Tribüne\ninkl. ein leichtes vegetarisches Mittagessen\, Kaffee/Tee und Kuchen \n– werden noch ausgeschrieben – \nANMELDUNG\nSchreibt mich einfach an: https://wildrosenhof.com/kontakt/ \nseminare@wildrosenhof.com \nOder per Telefon oder WhatsApp: \n0171 92 40 159 \nTEILNAHME\nDie Kursanmeldung ist verbindlich\, bei Unfall\, Krankheit oder Verletzung von Pferd oder Reiter*in kann ein*e Ersatzteilnehmer*in gestellt werden. \nVERSICHERUNG\nVersicherung ist Sache der Teilnehmer*innen. Die Teilnahme erfolgt auf eigenes Risiko. Die Kursleitung und Hofbesitzer*innen lehnen die Haftung für jegliche Schäden\, Verletzungen\, etc. ab. Unfall- und Haftpflichtversicherung ist Sache der Teilnehmer*innen. \nUNTERBRINGUNG PFERD\ninkl. Heu und Wasser\nIhr seid fürs abäppeln\, Gabe von Wasser und Heu selbst verantwortlich. \n\nGraspaddock ohne Unterstand: 5€/Tag oder 15€/Nacht oder 25€/2 Nächte\nPaddockbox: 10€/Tag oder 30€/Nacht oder 50€/2 Nächte\nPaddockbox für zwei Pferde: 15€/Tag oder 40€/Nacht oder 70€/2Nächte\n\nÜBERNACHTUNG FÜR DICH\n\nDoppelzimmer: 50€/Nacht oder 80€/2 Nächte (Preis für 2 Personen) mit Duschbad über den Flur (inkl. Bettwäsche\, Handtücher\, Kurabgabe)\nEinzelzimmer: 40€/Nacht oder 60€/2 Nächte mit Duschbad über den Flur (inkl. Bettwäsche\, Handtücher\, Kurabgabe)\nÜbernachten in eigenen Wohnwagen oder Bus ist auch möglich: 12 €/Tag (inkl. der Nutzung der Duschbäder\, sowie Kurabgabe)
URL:https://wildrosenhof.com/veranstaltung/longieren-juni-26-2026-09-06/
LOCATION:Wildrosenhof Alt Sammit
CATEGORIES:Rund ums Pferd
ATTACH;FMTTYPE=image/jpeg:https://wildrosenhof.com/wp-content/uploads/2022/10/wildrosenhof-tensegrales-training-kurs-scaled.jpg
ORGANIZER;CN="Virginia%20Reiff":MAILTO:patiencepferdetraining@gmail.com
END:VEVENT
END:VCALENDAR